Package: tripr Version: 1.12.0 Command: /home/biocbuild/R/R/bin/R CMD INSTALL tripr StartedAt: 2025-03-31 20:46:37 -0000 (Mon, 31 Mar 2025) EndedAt: 2025-03-31 20:47:16 -0000 (Mon, 31 Mar 2025) EllapsedTime: 39.1 seconds RetCode: 0 Status: OK