Package: triplex Version: 1.46.0 Command: /home/biocbuild/R/R/bin/R CMD INSTALL triplex StartedAt: 2025-03-31 20:19:57 -0000 (Mon, 31 Mar 2025) EndedAt: 2025-03-31 20:20:19 -0000 (Mon, 31 Mar 2025) EllapsedTime: 21.1 seconds RetCode: 0 Status: OK