Package: triplex Version: 1.46.0 Command: /home/biocbuild/R/R/bin/R CMD check --install=check:triplex.install-out.txt --library=/home/biocbuild/R/R/site-library --no-vignettes --timings triplex_1.46.0.tar.gz StartedAt: 2025-04-01 11:34:34 -0000 (Tue, 01 Apr 2025) EndedAt: 2025-04-01 11:36:10 -0000 (Tue, 01 Apr 2025) EllapsedTime: 95.2 seconds RetCode: 0 Status: WARNINGS CheckDir: triplex.Rcheck Warnings: 2