Package: triplex Version: 1.46.0 Command: F:\biocbuild\bbs-3.20-bioc\R\bin\R.exe CMD check --no-multiarch --install=check:triplex.install-out.txt --library=F:\biocbuild\bbs-3.20-bioc\R\library --no-vignettes --timings triplex_1.46.0.tar.gz StartedAt: 2025-04-01 07:00:09 -0400 (Tue, 01 Apr 2025) EndedAt: 2025-04-01 07:01:47 -0400 (Tue, 01 Apr 2025) EllapsedTime: 98.4 seconds RetCode: 0 Status: WARNINGS CheckDir: triplex.Rcheck Warnings: 2