Package: triplex Version: 1.46.0 Command: rm -rf triplex.buildbin-libdir && mkdir triplex.buildbin-libdir && F:\biocbuild\bbs-3.20-bioc\R\bin\R.exe CMD INSTALL --build --library=triplex.buildbin-libdir triplex_1.46.0.tar.gz StartedAt: 2025-04-01 09:26:24 -0400 (Tue, 01 Apr 2025) EndedAt: 2025-04-01 09:27:29 -0400 (Tue, 01 Apr 2025) EllapsedTime: 64.5 seconds RetCode: 0 Status: OK PackageFile: triplex_1.46.0.zip PackageFileSize: 812.8 KiB