Package: trio Version: 3.44.0 Command: /home/biocbuild/R/R/bin/R CMD INSTALL trio StartedAt: 2025-03-31 20:57:40 -0000 (Mon, 31 Mar 2025) EndedAt: 2025-03-31 20:58:14 -0000 (Mon, 31 Mar 2025) EllapsedTime: 33.8 seconds RetCode: 0 Status: OK