Package: trio Version: 3.44.0 Command: chmod a+r trio -R && F:\biocbuild\bbs-3.20-bioc\R\bin\R.exe CMD build --keep-empty-dirs --no-resave-data trio StartedAt: 2025-03-31 22:27:49 -0400 (Mon, 31 Mar 2025) EndedAt: 2025-03-31 22:29:11 -0400 (Mon, 31 Mar 2025) EllapsedTime: 82.0 seconds RetCode: 0 Status: OK PackageFile: trio_3.44.0.tar.gz PackageFileSize: 692.2 KiB