Package: trio Version: 3.44.0 Command: /Library/Frameworks/R.framework/Resources/bin/R CMD INSTALL trio StartedAt: 2025-03-31 16:17:24 -0400 (Mon, 31 Mar 2025) EndedAt: 2025-03-31 16:18:25 -0400 (Mon, 31 Mar 2025) EllapsedTime: 61.1 seconds RetCode: 0 Status: OK