Package: trio Version: 3.44.0 Command: /Library/Frameworks/R.framework/Resources/bin/R CMD build --keep-empty-dirs --no-resave-data trio StartedAt: 2025-03-31 22:41:46 -0400 (Mon, 31 Mar 2025) EndedAt: 2025-03-31 22:43:59 -0400 (Mon, 31 Mar 2025) EllapsedTime: 133.5 seconds RetCode: 0 Status: OK PackageFile: trio_3.44.0.tar.gz PackageFileSize: 748 KiB