Package: trio Version: 3.44.0 Command: /Library/Frameworks/R.framework/Resources/bin/R CMD build --keep-empty-dirs --no-resave-data trio StartedAt: 2025-04-01 09:33:36 -0400 (Tue, 01 Apr 2025) EndedAt: 2025-04-01 09:34:35 -0400 (Tue, 01 Apr 2025) EllapsedTime: 59.1 seconds RetCode: 0 Status: OK PackageFile: trio_3.44.0.tar.gz PackageFileSize: 748 KiB