Package: tricycle Version: 1.14.0 Command: /home/biocbuild/R/R/bin/R CMD build --keep-empty-dirs --no-resave-data tricycle StartedAt: 2025-04-01 03:17:18 -0000 (Tue, 01 Apr 2025) EndedAt: 2025-04-01 03:18:37 -0000 (Tue, 01 Apr 2025) EllapsedTime: 78.1 seconds RetCode: 0 Status: OK PackageFile: tricycle_1.14.0.tar.gz PackageFileSize: 3.72 MiB