Package: tricycle Version: 1.14.0 Command: rm -rf tricycle.buildbin-libdir && mkdir tricycle.buildbin-libdir && F:\biocbuild\bbs-3.20-bioc\R\bin\R.exe CMD INSTALL --build --library=tricycle.buildbin-libdir tricycle_1.14.0.tar.gz StartedAt: 2025-04-01 09:26:13 -0400 (Tue, 01 Apr 2025) EndedAt: 2025-04-01 09:26:57 -0400 (Tue, 01 Apr 2025) EllapsedTime: 43.7 seconds RetCode: 0 Status: OK PackageFile: tricycle_1.14.0.zip PackageFileSize: 3.712 MiB