Package: tricycle Version: 1.14.0 Command: /home/biocbuild/bbs-3.20-bioc/R/bin/R CMD check --install=check:tricycle.install-out.txt --library=/home/biocbuild/bbs-3.20-bioc/R/site-library --timings tricycle_1.14.0.tar.gz StartedAt: 2025-04-01 03:06:39 -0400 (Tue, 01 Apr 2025) EndedAt: 2025-04-01 03:10:55 -0400 (Tue, 01 Apr 2025) EllapsedTime: 256.3 seconds RetCode: 0 Status: OK CheckDir: tricycle.Rcheck Warnings: 0