Package: treekoR Version: 1.14.0 Command: chmod a+r treekoR -R && F:\biocbuild\bbs-3.20-bioc\R\bin\R.exe CMD build --keep-empty-dirs --no-resave-data treekoR StartedAt: 2025-03-31 22:27:12 -0400 (Mon, 31 Mar 2025) EndedAt: 2025-03-31 22:28:58 -0400 (Mon, 31 Mar 2025) EllapsedTime: 105.2 seconds RetCode: 0 Status: OK PackageFile: treekoR_1.14.0.tar.gz PackageFileSize: 1.58 MiB