Package: treekoR Version: 1.14.0 Command: rm -rf treekoR.buildbin-libdir && mkdir treekoR.buildbin-libdir && F:\biocbuild\bbs-3.20-bioc\R\bin\R.exe CMD INSTALL --build --library=treekoR.buildbin-libdir treekoR_1.14.0.tar.gz StartedAt: 2025-04-01 09:25:52 -0400 (Tue, 01 Apr 2025) EndedAt: 2025-04-01 09:26:39 -0400 (Tue, 01 Apr 2025) EllapsedTime: 46.3 seconds RetCode: 0 Status: OK PackageFile: treekoR_1.14.0.zip PackageFileSize: 1.649 MiB