Package: treeio Version: 1.30.0 Command: /Library/Frameworks/R.framework/Resources/bin/R CMD INSTALL treeio StartedAt: 2025-03-31 15:41:25 -0400 (Mon, 31 Mar 2025) EndedAt: 2025-03-31 15:41:42 -0400 (Mon, 31 Mar 2025) EllapsedTime: 17.4 seconds RetCode: 0 Status: OK