Package: treeclimbR Version: 1.2.0 Command: /home/biocbuild/R/R/bin/R CMD build --keep-empty-dirs --no-resave-data treeclimbR StartedAt: 2025-04-01 03:16:42 -0000 (Tue, 01 Apr 2025) EndedAt: 2025-04-01 03:18:07 -0000 (Tue, 01 Apr 2025) EllapsedTime: 84.1 seconds RetCode: 0 Status: OK PackageFile: treeclimbR_1.2.0.tar.gz PackageFileSize: 607.2 KiB