Package: treeclimbR Version: 1.2.0 Command: chmod a+r treeclimbR -R && F:\biocbuild\bbs-3.20-bioc\R\bin\R.exe CMD build --keep-empty-dirs --no-resave-data treeclimbR StartedAt: 2025-03-31 22:26:50 -0400 (Mon, 31 Mar 2025) EndedAt: 2025-03-31 22:28:21 -0400 (Mon, 31 Mar 2025) EllapsedTime: 91.7 seconds RetCode: 0 Status: OK PackageFile: treeclimbR_1.2.0.tar.gz PackageFileSize: 575.3 KiB