Package: treeclimbR Version: 1.2.0 Command: rm -rf treeclimbR.buildbin-libdir && mkdir treeclimbR.buildbin-libdir && /Users/biocbuild/BBS/utils/build-universal.sh treeclimbR_1.2.0.tar.gz /Library/Frameworks/R.framework/Resources/bin/R treeclimbR.buildbin-libdir StartedAt: 2024-11-09 17:16:18 -0500 (Sat, 09 Nov 2024) EndedAt: 2024-11-09 17:16:33 -0500 (Sat, 09 Nov 2024) EllapsedTime: 15.3 seconds RetCode: 0 Status: OK PackageFile: treeclimbR_1.2.0.tgz PackageFileSize: 891.5 KiB