Package: traviz Version: 1.12.0 Command: /home/biocbuild/R/R/bin/R CMD check --install=check:traviz.install-out.txt --library=/home/biocbuild/R/R/site-library --no-vignettes --timings traviz_1.12.0.tar.gz StartedAt: 2025-04-01 11:30:27 -0000 (Tue, 01 Apr 2025) EndedAt: 2025-04-01 11:34:34 -0000 (Tue, 01 Apr 2025) EllapsedTime: 247.4 seconds RetCode: 1 Status: ERROR CheckDir: traviz.Rcheck Warnings: NA