Package: transmogR Version: 1.2.0 Command: /home/biocbuild/R/R/bin/R CMD INSTALL transmogR StartedAt: 2025-03-31 20:34:08 -0000 (Mon, 31 Mar 2025) EndedAt: 2025-03-31 20:34:57 -0000 (Mon, 31 Mar 2025) EllapsedTime: 48.7 seconds RetCode: 0 Status: OK