Package: transmogR Version: 1.2.0 Command: /home/biocbuild/R/R/bin/R CMD build --keep-empty-dirs --no-resave-data transmogR StartedAt: 2025-04-01 03:16:07 -0000 (Tue, 01 Apr 2025) EndedAt: 2025-04-01 03:17:35 -0000 (Tue, 01 Apr 2025) EllapsedTime: 88.1 seconds RetCode: 0 Status: OK PackageFile: transmogR_1.2.0.tar.gz PackageFileSize: 569 KiB