Package: transite Version: 1.24.0 Command: chmod a+r transite -R && F:\biocbuild\bbs-3.20-bioc\R\bin\R.exe CMD build --keep-empty-dirs --no-resave-data transite StartedAt: 2025-03-31 22:25:48 -0400 (Mon, 31 Mar 2025) EndedAt: 2025-03-31 22:26:42 -0400 (Mon, 31 Mar 2025) EllapsedTime: 53.9 seconds RetCode: 0 Status: OK PackageFile: transite_1.24.0.tar.gz PackageFileSize: 610.8 KiB