Package: transformGamPoi Version: 1.12.0 Command: rm -rf transformGamPoi.buildbin-libdir && mkdir transformGamPoi.buildbin-libdir && /Users/biocbuild/BBS/utils/build-universal.sh transformGamPoi_1.12.0.tar.gz /Library/Frameworks/R.framework/Resources/bin/R transformGamPoi.buildbin-libdir StartedAt: 2025-04-01 12:56:21 -0400 (Tue, 01 Apr 2025) EndedAt: 2025-04-01 12:56:48 -0400 (Tue, 01 Apr 2025) EllapsedTime: 27.3 seconds RetCode: 0 Status: OK PackageFile: transformGamPoi_1.12.0.tgz PackageFileSize: 702.2 KiB