Package: transformGamPoi Version: 1.12.0 Command: rm -rf transformGamPoi.buildbin-libdir && mkdir transformGamPoi.buildbin-libdir && /Users/biocbuild/BBS/utils/build-universal.sh transformGamPoi_1.12.0.tar.gz /Library/Frameworks/R.framework/Resources/bin/R transformGamPoi.buildbin-libdir StartedAt: 2025-04-02 16:41:04 -0400 (Wed, 02 Apr 2025) EndedAt: 2025-04-02 16:41:19 -0400 (Wed, 02 Apr 2025) EllapsedTime: 14.9 seconds RetCode: 0 Status: OK PackageFile: transformGamPoi_1.12.0.tgz PackageFileSize: 700.6 KiB