Package: transcriptogramer Version: 1.28.0 Command: chmod a+r transcriptogramer -R && F:\biocbuild\bbs-3.20-bioc\R\bin\R.exe CMD build --keep-empty-dirs --no-resave-data transcriptogramer StartedAt: 2025-03-31 22:25:32 -0400 (Mon, 31 Mar 2025) EndedAt: 2025-03-31 22:40:49 -0400 (Mon, 31 Mar 2025) EllapsedTime: 917.5 seconds RetCode: 0 Status: OK PackageFile: transcriptogramer_1.28.0.tar.gz PackageFileSize: 3.63 MiB