Package: transcriptogramer Version: 1.28.0 Command: rm -rf transcriptogramer.buildbin-libdir && mkdir transcriptogramer.buildbin-libdir && F:\biocbuild\bbs-3.20-bioc\R\bin\R.exe CMD INSTALL --build --library=transcriptogramer.buildbin-libdir transcriptogramer_1.28.0.tar.gz StartedAt: 2025-04-01 09:25:20 -0400 (Tue, 01 Apr 2025) EndedAt: 2025-04-01 09:27:51 -0400 (Tue, 01 Apr 2025) EllapsedTime: 151.5 seconds RetCode: 0 Status: OK PackageFile: transcriptogramer_1.28.0.zip PackageFileSize: 5.45 MiB