Package: transcriptogramer Version: 1.28.0 Command: rm -rf transcriptogramer.buildbin-libdir && mkdir transcriptogramer.buildbin-libdir && /Users/biocbuild/BBS/utils/build-universal.sh transcriptogramer_1.28.0.tar.gz /Library/Frameworks/R.framework/Resources/bin/R transcriptogramer.buildbin-libdir StartedAt: 2025-04-02 16:41:01 -0400 (Wed, 02 Apr 2025) EndedAt: 2025-04-02 16:41:35 -0400 (Wed, 02 Apr 2025) EllapsedTime: 34.3 seconds RetCode: 0 Status: OK PackageFile: transcriptogramer_1.28.0.tgz PackageFileSize: 5.447 MiB