Package: transcriptR Version: 1.34.0 Command: F:\biocbuild\bbs-3.20-bioc\R\bin\R.exe CMD INSTALL transcriptR StartedAt: 2025-03-31 16:47:57 -0400 (Mon, 31 Mar 2025) EndedAt: 2025-03-31 16:49:24 -0400 (Mon, 31 Mar 2025) EllapsedTime: 87.6 seconds RetCode: 0 Status: OK