Package: transcriptR Version: 1.34.0 Command: /Library/Frameworks/R.framework/Resources/bin/R CMD INSTALL transcriptR StartedAt: 2025-03-31 16:20:23 -0400 (Mon, 31 Mar 2025) EndedAt: 2025-03-31 16:22:00 -0400 (Mon, 31 Mar 2025) EllapsedTime: 97.1 seconds RetCode: 0 Status: OK