Package: tracktables Version: 1.40.0 Command: /home/biocbuild/R/R/bin/R CMD build --keep-empty-dirs --no-resave-data tracktables StartedAt: 2025-04-01 03:14:31 -0000 (Tue, 01 Apr 2025) EndedAt: 2025-04-01 03:14:56 -0000 (Tue, 01 Apr 2025) EllapsedTime: 25.0 seconds RetCode: 0 Status: OK PackageFile: tracktables_1.40.0.tar.gz PackageFileSize: 347 KiB