Package: trackViewer Version: 1.42.0 Command: rm -rf trackViewer.buildbin-libdir && mkdir trackViewer.buildbin-libdir && /Users/biocbuild/BBS/utils/build-universal.sh trackViewer_1.42.0.tar.gz /Library/Frameworks/R.framework/Resources/bin/R trackViewer.buildbin-libdir StartedAt: 2025-04-02 16:40:39 -0400 (Wed, 02 Apr 2025) EndedAt: 2025-04-02 16:41:57 -0400 (Wed, 02 Apr 2025) EllapsedTime: 78.1 seconds RetCode: 0 Status: OK PackageFile: trackViewer_1.42.0.tgz PackageFileSize: 12.74 MiB