Package: tpSVG Version: 1.2.0 Command: /Library/Frameworks/R.framework/Resources/bin/R CMD build --keep-empty-dirs --no-resave-data tpSVG StartedAt: 2025-03-31 22:38:33 -0400 (Mon, 31 Mar 2025) EndedAt: 2025-03-31 22:41:07 -0400 (Mon, 31 Mar 2025) EllapsedTime: 153.7 seconds RetCode: 0 Status: OK PackageFile: tpSVG_1.2.0.tar.gz PackageFileSize: 1.237 MiB