Package: topdownr Version: 1.28.0 Command: chmod a+r topdownr -R && F:\biocbuild\bbs-3.20-bioc\R\bin\R.exe CMD build --keep-empty-dirs --no-resave-data topdownr StartedAt: 2025-03-31 22:24:21 -0400 (Mon, 31 Mar 2025) EndedAt: 2025-03-31 22:26:46 -0400 (Mon, 31 Mar 2025) EllapsedTime: 145.2 seconds RetCode: 0 Status: OK PackageFile: topdownr_1.28.0.tar.gz PackageFileSize: 1.3 MiB