Package: topdownr Version: 1.28.0 Command: /Library/Frameworks/R.framework/Resources/bin/R CMD INSTALL topdownr StartedAt: 2025-03-31 16:01:38 -0400 (Mon, 31 Mar 2025) EndedAt: 2025-03-31 16:03:09 -0400 (Mon, 31 Mar 2025) EllapsedTime: 91.1 seconds RetCode: 0 Status: OK