Package: topdownr Version: 1.28.0 Command: /Library/Frameworks/R.framework/Resources/bin/R CMD check --install=check:topdownr.install-out.txt --library=/Library/Frameworks/R.framework/Resources/library --no-vignettes --timings topdownr_1.28.0.tar.gz StartedAt: 2025-04-01 10:24:35 -0400 (Tue, 01 Apr 2025) EndedAt: 2025-04-01 10:36:25 -0400 (Tue, 01 Apr 2025) EllapsedTime: 709.9 seconds RetCode: 0 Status: OK CheckDir: topdownr.Rcheck Warnings: 0