Package: topdownr Version: 1.28.0 Command: rm -rf topdownr.buildbin-libdir && mkdir topdownr.buildbin-libdir && /Users/biocbuild/BBS/utils/build-universal.sh topdownr_1.28.0.tar.gz /Library/Frameworks/R.framework/Resources/bin/R topdownr.buildbin-libdir StartedAt: 2025-04-02 16:40:09 -0400 (Wed, 02 Apr 2025) EndedAt: 2025-04-02 16:41:04 -0400 (Wed, 02 Apr 2025) EllapsedTime: 55.5 seconds RetCode: 0 Status: OK PackageFile: topdownr_1.28.0.tgz PackageFileSize: 2.309 MiB