Package: topGO Version: 2.58.0 Command: /home/biocbuild/R/R/bin/R CMD check --install=check:topGO.install-out.txt --library=/home/biocbuild/R/R/site-library --no-vignettes --timings topGO_2.58.0.tar.gz StartedAt: 2025-04-01 11:26:09 -0000 (Tue, 01 Apr 2025) EndedAt: 2025-04-01 11:28:42 -0000 (Tue, 01 Apr 2025) EllapsedTime: 153.2 seconds RetCode: 0 Status: WARNINGS CheckDir: topGO.Rcheck Warnings: 1