Package: topGO Version: 2.58.0 Command: F:\biocbuild\bbs-3.20-bioc\R\bin\R.exe CMD INSTALL topGO StartedAt: 2025-03-31 16:06:07 -0400 (Mon, 31 Mar 2025) EndedAt: 2025-03-31 16:07:07 -0400 (Mon, 31 Mar 2025) EllapsedTime: 60.0 seconds RetCode: 0 Status: OK