Package: topGO Version: 2.58.0 Command: rm -rf topGO.buildbin-libdir && mkdir topGO.buildbin-libdir && F:\biocbuild\bbs-3.20-bioc\R\bin\R.exe CMD INSTALL --build --library=topGO.buildbin-libdir topGO_2.58.0.tar.gz StartedAt: 2025-04-01 09:24:55 -0400 (Tue, 01 Apr 2025) EndedAt: 2025-04-01 09:26:18 -0400 (Tue, 01 Apr 2025) EllapsedTime: 83.7 seconds RetCode: 0 Status: OK PackageFile: topGO_2.58.0.zip PackageFileSize: 1.949 MiB