Package: topGO Version: 2.58.0 Command: /Library/Frameworks/R.framework/Resources/bin/R CMD check --install=check:topGO.install-out.txt --library=/Library/Frameworks/R.framework/Resources/library --no-vignettes --timings topGO_2.58.0.tar.gz StartedAt: 2025-04-01 10:24:43 -0400 (Tue, 01 Apr 2025) EndedAt: 2025-04-01 10:29:12 -0400 (Tue, 01 Apr 2025) EllapsedTime: 269.8 seconds RetCode: 0 Status: WARNINGS CheckDir: topGO.Rcheck Warnings: 1