Package: topGO Version: 2.58.0 Command: /Library/Frameworks/R.framework/Resources/bin/R CMD build --keep-empty-dirs --no-resave-data topGO StartedAt: 2025-03-31 22:37:46 -0400 (Mon, 31 Mar 2025) EndedAt: 2025-03-31 22:41:57 -0400 (Mon, 31 Mar 2025) EllapsedTime: 250.9 seconds RetCode: 0 Status: OK PackageFile: topGO_2.58.0.tar.gz PackageFileSize: 1.907 MiB