Package: topGO Version: 2.58.0 Command: /Library/Frameworks/R.framework/Resources/bin/R CMD INSTALL topGO StartedAt: 2025-03-31 15:47:08 -0400 (Mon, 31 Mar 2025) EndedAt: 2025-03-31 15:47:28 -0400 (Mon, 31 Mar 2025) EllapsedTime: 19.9 seconds RetCode: 0 Status: OK