Package: topGO Version: 2.58.0 Command: /Library/Frameworks/R.framework/Resources/bin/R CMD build --keep-empty-dirs --no-resave-data topGO StartedAt: 2025-04-01 09:19:57 -0400 (Tue, 01 Apr 2025) EndedAt: 2025-04-01 09:22:20 -0400 (Tue, 01 Apr 2025) EllapsedTime: 142.7 seconds RetCode: 0 Status: OK PackageFile: topGO_2.58.0.tar.gz PackageFileSize: 1.907 MiB