Package: topGO Version: 2.58.0 Command: rm -rf topGO.buildbin-libdir && mkdir topGO.buildbin-libdir && /Users/biocbuild/BBS/utils/build-universal.sh topGO_2.58.0.tar.gz /Library/Frameworks/R.framework/Resources/bin/R topGO.buildbin-libdir StartedAt: 2025-04-02 16:40:10 -0400 (Wed, 02 Apr 2025) EndedAt: 2025-04-02 16:40:35 -0400 (Wed, 02 Apr 2025) EllapsedTime: 25.0 seconds RetCode: 0 Status: OK PackageFile: topGO_2.58.0.tgz PackageFileSize: 2.152 MiB