Package: tomoseqr Version: 1.10.0 Command: /Library/Frameworks/R.framework/Resources/bin/R CMD check --install=check:tomoseqr.install-out.txt --library=/Library/Frameworks/R.framework/Resources/library --no-vignettes --timings tomoseqr_1.10.0.tar.gz StartedAt: 2025-04-01 10:23:18 -0400 (Tue, 01 Apr 2025) EndedAt: 2025-04-01 10:25:34 -0400 (Tue, 01 Apr 2025) EllapsedTime: 136.0 seconds RetCode: 0 Status: OK CheckDir: tomoseqr.Rcheck Warnings: 0