Package: tomoseqr Version: 1.10.0 Command: /Library/Frameworks/R.framework/Resources/bin/R CMD build --keep-empty-dirs --no-resave-data tomoseqr StartedAt: 2025-03-31 22:37:40 -0400 (Mon, 31 Mar 2025) EndedAt: 2025-03-31 22:38:15 -0400 (Mon, 31 Mar 2025) EllapsedTime: 34.9 seconds RetCode: 0 Status: OK PackageFile: tomoseqr_1.10.0.tar.gz PackageFileSize: 1.558 MiB