Package: tomoda Version: 1.16.0 Command: /Library/Frameworks/R.framework/Resources/bin/R CMD check --install=check:tomoda.install-out.txt --library=/Library/Frameworks/R.framework/Resources/library --no-vignettes --timings tomoda_1.16.0.tar.gz StartedAt: 2025-04-02 11:33:03 -0400 (Wed, 02 Apr 2025) EndedAt: 2025-04-02 11:39:36 -0400 (Wed, 02 Apr 2025) EllapsedTime: 392.2 seconds RetCode: 0 Status: OK CheckDir: tomoda.Rcheck Warnings: 0