Package: tomoda Version: 1.16.0 Command: /Library/Frameworks/R.framework/Resources/bin/R CMD build --keep-empty-dirs --no-resave-data tomoda StartedAt: 2025-04-01 09:18:18 -0400 (Tue, 01 Apr 2025) EndedAt: 2025-04-01 09:19:57 -0400 (Tue, 01 Apr 2025) EllapsedTime: 99.3 seconds RetCode: 0 Status: OK PackageFile: tomoda_1.16.0.tar.gz PackageFileSize: 2.912 MiB