Package: tkWidgets Version: 1.84.0 Command: F:\biocbuild\bbs-3.20-bioc\R\bin\R.exe CMD INSTALL tkWidgets StartedAt: 2025-03-31 15:30:42 -0400 (Mon, 31 Mar 2025) EndedAt: 2025-03-31 15:31:30 -0400 (Mon, 31 Mar 2025) EllapsedTime: 47.3 seconds RetCode: 0 Status: OK